BEGIN:VCALENDAR
VERSION:2.0
PRODID:-//eventon.com NONSGML v1.0//EN
BEGIN:VEVENT
UID:69e73d8255a09
DTSTAMP:20260421T050402
DTSTART:20210525
DTEND:20210526
TZID:UTC
LOCATION:Virtual Event Online 
SUMMARY:Board Council May
DESCRIPTION: Meeting of the Board of Grand Council of the Crees (Eeyou Istchee) and the Council of the Cree Nation Government.\nhttps://www.cngov.ca/events/board-council-may-2/
URL:https://www.cngov.ca/events/board-council-may-2/
END:VEVENT
END:VCALENDAR