BEGIN:VCALENDAR
VERSION:2.0
PRODID:-//eventon.com NONSGML v1.0//EN
BEGIN:VEVENT
UID:69e96bca86ec7
DTSTAMP:20260422T204602
DTSTART:20210331
DTEND:20210331
TZID:UTC
LOCATION:Virtual Event Online 
SUMMARY:Community Consultation Meeting
DESCRIPTION: &nbsp; Kirkland Lake Gold’s West Detour Project Members of the Cree Nation of Eeyou Istchee\,  and particularly members of the Cree Nations of Washaw Sibi\,  Waskaganish and MoCreebec\,  are invited to attend a public information meeting regarding the potential impacts of Kirkland Lake Gold’s West Detour Project. Due to public[..]\nhttps://www.cngov.ca/events/community-consultation-meeting/
URL:https://www.cngov.ca/events/community-consultation-meeting/
END:VEVENT
END:VCALENDAR