BEGIN:VCALENDAR
VERSION:2.0
PRODID:-//eventon.com NONSGML v1.0//EN
BEGIN:VEVENT
UID:69e92d1735c76
DTSTAMP:20260422T161831
DTSTART:20210726
DTEND:20210726
TZID:UTC
LOCATION:Eeyou Istchee 
SUMMARY:Advance Polls - GCC(EI)/CNG Election
DESCRIPTION: Advanced polls for the Grand Chief (Chairperson)\,  and Deputy Grand Chief (Vice-Chairperson) of the Grand Council of the Crees Eeyou Istchee/Cree Nation Government. Polling Information for communities will be updated as needed. Last updated: July 26\,  2021  Community Name Contact Number Polling Station Location Whapmagoostui Frances George 819-929-3183 or on[..]\nhttps://www.cngov.ca/events/advanced-polls-gccei-cng-election/
URL:https://www.cngov.ca/events/advanced-polls-gccei-cng-election/
END:VEVENT
END:VCALENDAR