BEGIN:VCALENDAR
VERSION:2.0
PRODID:-//eventon.com NONSGML v1.0//EN
BEGIN:VEVENT
UID:69e73dbb5b2b3
DTSTAMP:20260421T050459
DTSTART:20210826T173000Z
DTEND:20210826T190000Z
TZID:UTC
LOCATION:Virtual Event Online 
SUMMARY:COVID-19 Livestream
DESCRIPTION: Today\,  at 5:30 PM-7:00 PM\,  the Cree Nation Government and the Cree Health Board will co-host a public information session on COVID-19. Grand Chief Mandy Gull-Masty and the Director of Public Health\,  Dr. Yv Bonnier-Viger\,  will answer questions in English and Cree about the Delta variant\,  vaccination and testing. You[..]\nhttps://www.cngov.ca/events/covid-19-livestream/
URL:https://www.cngov.ca/events/covid-19-livestream/
END:VEVENT
END:VCALENDAR