BEGIN:VCALENDAR
VERSION:2.0
PRODID:-//eventon.com NONSGML v1.0//EN
BEGIN:VEVENT
UID:69eb456172a8a
DTSTAMP:20260424T062641
DTSTART:20211026T192200Z
DTEND:20211027T192200Z
TZID:America/Montreal
LOCATION:Ouje-Bougoumou 11A Medowewan
SUMMARY:Board Council October
DESCRIPTION: Meeting of the Board of Grand Council of the Crees (Eeyou Istchee) and the Council of the Cree Nation Government.\nhttps://www.cngov.ca/events/board-council/
URL:https://www.cngov.ca/events/board-council/
END:VEVENT
END:VCALENDAR