BEGIN:VCALENDAR
VERSION:2.0
PRODID:-//eventon.com NONSGML v1.0//EN
BEGIN:VEVENT
UID:69eb2e5f2257e
DTSTAMP:20260424T044831
DTSTART:20220323
DTEND:20220325
TZID:America/Montreal
LOCATION:Virtual Event Online 
SUMMARY:Board Council March
DESCRIPTION: Meeting of the Board of Grand Council of the Crees (Eeyou Istchee) and the Council of the Cree Nation Government.\nhttps://www.cngov.ca/events/board-council-2/
URL:https://www.cngov.ca/events/board-council-2/
END:VEVENT
END:VCALENDAR