BEGIN:VCALENDAR
VERSION:2.0
PRODID:-//eventon.com NONSGML v1.0//EN
BEGIN:VEVENT
UID:69e94877929f9
DTSTAMP:20260422T181519
DTSTART:20230329
DTEND:20230331
TZID:Pacific/Midway
LOCATION:Chibougamau 
SUMMARY:Board Council March 2023
DESCRIPTION: Board Council March 2023\nhttps://www.cngov.ca/events/board-council-march-2023/
URL:https://www.cngov.ca/events/board-council-march-2023/
END:VEVENT
END:VCALENDAR