BEGIN:VCALENDAR
VERSION:2.0
PRODID:-//eventon.com NONSGML v1.0//EN
BEGIN:VEVENT
UID:69e94625e6ae6
DTSTAMP:20260422T180525
DTSTART:20240529
DTEND:20240530
TZID:America/New_York
LOCATION:Nemaska Sports Complex Nemiscau\,  QC J0Y 3B0
SUMMARY:Board Council May
DESCRIPTION: Board Council &#8211; March 20th & 21st\,  2024 (Chibougamau) from Cree Nation Government on Vimeo.\nhttps://www.cngov.ca/events/board-council-may-5/
URL:https://www.cngov.ca/events/board-council-may-5/
END:VEVENT
END:VCALENDAR