BEGIN:VCALENDAR
VERSION:2.0
PRODID:-//eventon.com NONSGML v1.0//EN
BEGIN:VEVENT
UID:69e94e4d3031a
DTSTAMP:20260422T184013
DTSTART:20240918
DTEND:20240919
TZID:America/Montreal
LOCATION:Waskaganish\,  QC Waskaganish\,  QC 
SUMMARY:Board Council September
DESCRIPTION: \nhttps://www.cngov.ca/events/board-council-september-2024/
URL:https://www.cngov.ca/events/board-council-september-2024/
END:VEVENT
END:VCALENDAR