BEGIN:VCALENDAR
VERSION:2.0
PRODID:-//eventon.com NONSGML v1.0//EN
BEGIN:VEVENT
UID:69e933a27fdb3
DTSTAMP:20260422T164626
DTSTART:20241107T001700Z
DTEND:20241109T001700Z
TZID:America/Montreal
LOCATION:Quebec City 
SUMMARY:Board Council November
DESCRIPTION: \nhttps://www.cngov.ca/events/board-council-november-4/
URL:https://www.cngov.ca/events/board-council-november-4/
END:VEVENT
END:VCALENDAR