BEGIN:VCALENDAR
VERSION:2.0
PRODID:-//eventon.com NONSGML v1.0//EN
BEGIN:VEVENT
UID:69eb454194b79
DTSTAMP:20260424T062609
DTSTART:20241204
DTEND:20241205
TZID:America/Montreal
LOCATION:Gatineau\,  QC Gatineau\,  QC
SUMMARY:December Board Council
DESCRIPTION: \nhttps://www.cngov.ca/events/december-board-council/
URL:https://www.cngov.ca/events/december-board-council/
END:VEVENT
END:VCALENDAR