BEGIN:VCALENDAR
VERSION:2.0
PRODID:-//eventon.com NONSGML v1.0//EN
BEGIN:VEVENT
UID:69eb45984b577
DTSTAMP:20260424T062736
DTSTART:20250723T133000Z
DTEND:20250724T210000Z
TZID:America/Montreal
LOCATION:Chisasibi\,  QC Mitchuaap Chisasibi\,  QC
SUMMARY:Board Council July 2025
DESCRIPTION: Visit our Vimeo Page for upcoming streams\nhttps://www.cngov.ca/events/board-council-july-2025/
URL:https://www.cngov.ca/events/board-council-july-2025/
END:VEVENT
END:VCALENDAR