BEGIN:VCALENDAR
VERSION:2.0
PRODID:-//eventon.com NONSGML v1.0//EN
BEGIN:VEVENT
UID:69e943c5d2407
DTSTAMP:20260422T175517
DTSTART:20250826
DTEND:20250828
TZID:America/Montreal
LOCATION:Ouje-Bougoumou 11A Medowewan
SUMMARY:Annual General Assembly
DESCRIPTION: \nhttps://www.cngov.ca/events/annual-general-assembly-3/
URL:https://www.cngov.ca/events/annual-general-assembly-3/
END:VEVENT
END:VCALENDAR