BEGIN:VCALENDAR
VERSION:2.0
PRODID:-//eventon.com NONSGML v1.0//EN
BEGIN:VEVENT
UID:69eb4550dda09
DTSTAMP:20260424T062624
DTSTART:20251204T003500Z
DTEND:20251206T003500Z
TZID:America/Montreal
LOCATION:Montréal\,  QC Montréal\,  QC 
SUMMARY:Board Council December
DESCRIPTION: \nhttps://www.cngov.ca/events/board-council-december-4/
URL:https://www.cngov.ca/events/board-council-december-4/
END:VEVENT
END:VCALENDAR