BEGIN:VCALENDAR
VERSION:2.0
PRODID:-//eventon.com NONSGML v1.0//EN
BEGIN:VEVENT
UID:69e945ea49d61
DTSTAMP:20260422T180426
DTSTART:20180522T090000Z
DTEND:20180523T170000Z
TZID:UTC
LOCATION:Waskaganish\,  QC Waskaganish\,  QC 
SUMMARY:Réunion du Conseil - mai
DESCRIPTION: Réunion de Conseil du Grand Conseil des Cris (Eeyou Istchee) et du Gouvernement de la Nation Crie\nhttps://www.cngov.ca/events/board-council-meeting-may-2018/
URL:https://www.cngov.ca/events/board-council-meeting-may-2018/
END:VEVENT
END:VCALENDAR