BEGIN:VCALENDAR
VERSION:2.0
PRODID:-//eventon.com NONSGML v1.0//EN
BEGIN:VEVENT
UID:69e73d9c89df4
DTSTAMP:20260421T050428
DTSTART:20180911T090000Z
DTEND:20180913T170000Z
TZID:UTC
LOCATION:Chisasibi\,  QC Mitchuaap Chisasibi\,  QC
SUMMARY:Board/Council Meeting September
DESCRIPTION: Meeting of the Board of Grand Council of the Crees (Eeyou Istchee) and the Council of the Cree Nation Government\nhttps://www.cngov.ca/events/board-council-meeting-september-2018/
URL:https://www.cngov.ca/events/board-council-meeting-september-2018/
END:VEVENT
END:VCALENDAR