BEGIN:VCALENDAR
VERSION:2.0
PRODID:-//eventon.com NONSGML v1.0//EN
BEGIN:VEVENT
UID:69e945f1ce1a9
DTSTAMP:20260422T180433
DTSTART:20181211T090000Z
DTEND:20181212T170000Z
TZID:UTC
LOCATION:Montréal\,  QC Montréal\,  QC 
SUMMARY:Board/Council Meeting December
DESCRIPTION: Meeting of the Board of Grand Council of the Crees (Eeyou Istchee) and the Council of the Cree Nation Government\nhttps://www.cngov.ca/events/board-council-meeting-december-2018/
URL:https://www.cngov.ca/events/board-council-meeting-december-2018/
END:VEVENT
END:VCALENDAR