BEGIN:VCALENDAR
VERSION:2.0
PRODID:-//eventon.com NONSGML v1.0//EN
BEGIN:VEVENT
UID:69e939fd12b62
DTSTAMP:20260422T171333
DTSTART:20181017T130000Z
DTEND:20181018T210000Z
TZID:America/Montreal
LOCATION:Waskaganish\,  QC Waskaganish\,  QC 
SUMMARY:11th Regional Career Fair
DESCRIPTION: \nhttps://www.cngov.ca/events/11th-regional-career-fair/
URL:https://www.cngov.ca/events/11th-regional-career-fair/
END:VEVENT
END:VCALENDAR