BEGIN:VCALENDAR
VERSION:2.0
PRODID:-//eventon.com NONSGML v1.0//EN
BEGIN:VEVENT
UID:69e94af333b13
DTSTAMP:20260422T182555
DTSTART:20181108T090000Z
DTEND:20181108T120000Z
TZID:UTC
LOCATION:Eastmain Eastmain\,  Quebec J0M 1W0
SUMMARY:Wild Food System Workshop
DESCRIPTION: About the Workshop  Traditional food security is a fundamental contributor to the health and well-being of indigenous people and communities. For the Cree of Eeyou Istchee\,  the hunting\,  fishing\,  trapping and gathering way of life is fundamental for the preservation of their health\,  well-being\,  culture\,  and identity. Significant environmental and[..]\nhttps://www.cngov.ca/events/wild-food-system-workshop/
URL:https://www.cngov.ca/events/wild-food-system-workshop/
END:VEVENT
END:VCALENDAR