BEGIN:VCALENDAR
VERSION:2.0
PRODID:-//eventon.com NONSGML v1.0//EN
BEGIN:VEVENT
UID:69e945f5a417b
DTSTAMP:20260422T180437
DTSTART:20190122T090000Z
DTEND:20190124T170000Z
TZID:UTC
LOCATION:Ouje-Bougoumou 11A Medowewan
SUMMARY:Réunion du Conseil Janvier
DESCRIPTION: Réunion du Conseil du Grand Conseil des Cris (Eeyou Istchee) et du Gouvernement de la Nation Crie et le Gouvernement régional d’Eeyou Istchee Baie-James. &nbsp;\nhttps://www.cngov.ca/events/board-council-meeting-january/
URL:https://www.cngov.ca/events/board-council-meeting-january/
END:VEVENT
END:VCALENDAR