BEGIN:VCALENDAR
VERSION:2.0
PRODID:-//eventon.com NONSGML v1.0//EN
BEGIN:VEVENT
UID:69e948954e024
DTSTAMP:20260422T181549
DTSTART:20190528T090000Z
DTEND:20190530T170000Z
TZID:UTC
LOCATION:Chisasibi\,  QC Mitchuaap Chisasibi\,  QC
SUMMARY:Board/Council Meeting May
DESCRIPTION: Meeting of the Board of Grand Council of the Crees (Eeyou Istchee) and the Council of the Cree Nation Government & Eeyou Istchee James Bay Regional Government.\nhttps://www.cngov.ca/events/board-council-meeting-may/
URL:https://www.cngov.ca/events/board-council-meeting-may/
END:VEVENT
END:VCALENDAR