BEGIN:VCALENDAR
VERSION:2.0
PRODID:-//eventon.com NONSGML v1.0//EN
BEGIN:VEVENT
UID:69e4d789b0086
DTSTAMP:20260419T092425
DTSTART:20190416T090000Z
DTEND:20190417T170000Z
TZID:UTC
LOCATION:Forestel Forestel\,  1001 3e Avenue Est\,  Val-d'Or\,  QC J9P 0J7
SUMMARY:Town Hall Meeting
DESCRIPTION: Town Hall Meeting\nhttps://www.cngov.ca/events/town-hall/
URL:https://www.cngov.ca/events/town-hall/
END:VEVENT
END:VCALENDAR