BEGIN:VCALENDAR
VERSION:2.0
PRODID:-//eventon.com NONSGML v1.0//EN
BEGIN:VEVENT
UID:69e94e288eb0c
DTSTAMP:20260422T183936
DTSTART:20190326T090000Z
DTEND:20190327T170000Z
TZID:UTC
LOCATION:Chapais 188 Boulevard Springer\,  Chapais\,  QC G0W 1H0
SUMMARY:Board Council Meeting
DESCRIPTION: Meeting of the Board of Grand Council of the Crees (Eeyou Istchee) and the Council of the Cree Nation Government & Eeyou Istchee James Bay Regional Government.\nhttps://www.cngov.ca/events/board-council-meeting/
URL:https://www.cngov.ca/events/board-council-meeting/
END:VEVENT
END:VCALENDAR