BEGIN:VCALENDAR
VERSION:2.0
PRODID:-//eventon.com NONSGML v1.0//EN
BEGIN:VEVENT
UID:69e94842b28fb
DTSTAMP:20260422T181426
DTSTART:20190917T090000Z
DTEND:20190918T170000Z
TZID:UTC
LOCATION:Cree Nation of Waswanipi 
SUMMARY:Board/Council September
DESCRIPTION: Meeting of the Board of Grand Council of the Crees (Eeyou Istchee) and the Council of the Cree Nation Government &nbsp;\nhttps://www.cngov.ca/events/board-council-september/
URL:https://www.cngov.ca/events/board-council-september/
END:VEVENT
END:VCALENDAR