BEGIN:VCALENDAR
VERSION:2.0
PRODID:-//eventon.com NONSGML v1.0//EN
BEGIN:VEVENT
UID:69e945e74d77c
DTSTAMP:20260422T180423
DTSTART:20190925
DTEND:20190926
TZID:UTC
LOCATION:Mistissini\,  QC Mistissini\,  QC 
SUMMARY:Cree Regional Career Fair
DESCRIPTION: Cree Regional Career Fair\nhttps://www.cngov.ca/events/cree-regional-career-fair/
URL:https://www.cngov.ca/events/cree-regional-career-fair/
END:VEVENT
END:VCALENDAR