BEGIN:VCALENDAR
VERSION:2.0
PRODID:-//eventon.com NONSGML v1.0//EN
BEGIN:VEVENT
UID:69eb2c97e5581
DTSTAMP:20260424T044055
DTSTART:20191217T013400Z
DTEND:20191218T013400Z
TZID:UTC
LOCATION:Lebel-sur-Quévillon\,  QC Lebel-sur-Quévillon\,  QC 
SUMMARY:Réunion du Conseil Mars
DESCRIPTION: Réunion du Conseil du Grand Conseil des Cris (Eeyou Istchee) et du Gouvernement de la Nation Crie et le Gouvernement régional d’Eeyou Istchee Baie-James.\nhttps://www.cngov.ca/events/board-council-march/
URL:https://www.cngov.ca/events/board-council-march/
END:VEVENT
END:VCALENDAR